BEGIN:VCALENDAR
VERSION:2.0
PRODID:-//The End of Healing - ECPv6.13.2.1//NONSGML v1.0//EN
CALSCALE:GREGORIAN
METHOD:PUBLISH
X-WR-CALNAME:The End of Healing
X-ORIGINAL-URL:https://www.endofhealing.com
X-WR-CALDESC:Events for The End of Healing
REFRESH-INTERVAL;VALUE=DURATION:PT1H
X-Robots-Tag:noindex
X-PUBLISHED-TTL:PT1H
BEGIN:VTIMEZONE
TZID:UTC
BEGIN:STANDARD
TZOFFSETFROM:+0000
TZOFFSETTO:+0000
TZNAME:UTC
DTSTART:20150101T000000
END:STANDARD
END:VTIMEZONE
BEGIN:VEVENT
DTSTART;TZID=UTC:20161104T131500
DTEND;TZID=UTC:20161104T134500
DTSTAMP:20260423T232347
CREATED:20160726T030615Z
LAST-MODIFIED:20161018T192957Z
UID:4590-1478265300-1478267100@www.endofhealing.com
SUMMARY:Lexington—HealthWatch USA
DESCRIPTION:Dr. Jim Bailey will speak on “Why Healthcare May Be Hazardous For Your Health” at the Annual HealthWatch USA Conference. This year’s conference theme is Healthcare Transparency & Patient Safety. Jim will be available to sign books after his talk.
URL:https://www.endofhealing.com/calendar/lexington-healthwatch-usa/
LOCATION:Four-Points Sheraton\, 1938 Stanton Way\, Lexington\, KY\, 40511\, United States
CATEGORIES:Address & Signing,Lectures & Discussions,Signing
ATTACH;FMTTYPE=image/jpeg:https://www.endofhealing.com/wp-content/uploads/2016/07/gallery_112.jpg
END:VEVENT
BEGIN:VEVENT
DTSTART;TZID=UTC:20160915T080000
DTEND;TZID=UTC:20160925T080000
DTSTAMP:20260423T232347
CREATED:20160726T025216Z
LAST-MODIFIED:20160726T025216Z
UID:4586-1473926400-1474790400@www.endofhealing.com
SUMMARY:Umbria\, Italy—Search for the Healthy City
DESCRIPTION:Dr. Jim Bailey will be leading the 9th Search for the Healthy City study tour in Umbria\, Italy.  This year’s theme is The Influence of Art and Architecture on Health. Participants will discuss classic and modern works regarding the impact of our built environment on physical\, emotional\, and spiritual health\, considering how cities and towns can best serve human health today.
URL:https://www.endofhealing.com/calendar/umbria-italy-search-for-the-healthy-city/
LOCATION:Agriturismo I Frati\, Paciano\, Umbria\,  06060 \, Italy
CATEGORIES:Lectures & Discussions
ATTACH;FMTTYPE=image/jpeg:https://www.endofhealing.com/wp-content/uploads/2016/07/Orvieto-Duomo.jpg
END:VEVENT
BEGIN:VEVENT
DTSTART;TZID=UTC:20160830T190000
DTEND;TZID=UTC:20160830T203000
DTSTAMP:20260423T232347
CREATED:20160801T014234Z
LAST-MODIFIED:20160801T014234Z
UID:4604-1472583600-1472589000@www.endofhealing.com
SUMMARY:Memphis—Food for Thought
DESCRIPTION:Jim Bailey will talk about his novel\, The End of Healing\, and will lead discussion about Dr. Don Newman’s path to find health care that heals. Food for Thought has a long tradition of nurturing the art of conversation and civil discourse in Memphis. Initial inspiration for Food for Thought came from a cover story in the Utne Reader in 1991 about the famous gatherings hosted by Gertrude Stein in Paris. Salons at that time were incubators of provocative ideas\, the frontiers of cultural change with passionate conversation sometimes leading to passionate action. Wit\, intelligence\, charm\, and insight were prized.  Later in 1991\, Rob Sangster founded Food for Thought to nourish the art of conversation\, including spirited debates on controversial topics. We ignore the adage that discussion of religion\, sex and politics are to be avoided. Indeed\, they are frequent topics. For the first year\, meetings were held in Cybil Shepherd’s downtown loft. For more than a decade after that\, Food for Thought met in the private room at La Montagne Restaurant\, where the best of conversation\, food and wine were combined.  \n Recent guests who have guided discussions include Ted Evanoff\, CA Business Editor\, Muaricio Calvo – Director – Latino Memphis\, Dr. Scott Morris – Church Health Center\, Sen. Lee Harris\, Dr. Mark Muesse – Rhodes College\, Jim Strickland – Mayor\, Phil Trenary – Chamber of Commerce\, Jimmy Ogle – all things Memphis\, Dr. Stephen Haynes – The Last Segregated Hour\, Marc Perrusquia – investigative reporter\, Dr. Steven McKenzie – the ancient Middle East\, Dr. David Kemme – the financial crisis\, Molly Crosby – on writing\, David Waters – on religion\, Dean Steve Mulroy – elections\, MPD Director Toney Armstrong – policing Memphis\, Dr. Yasir Qadhi – Muslims in America\, a variety of scientists\, historians\, economists\, politicians\, and more. \n 
URL:https://www.endofhealing.com/calendar/memphis-food-for-thought/
LOCATION:Jason’s Deli\, 3473 Poplar Avenue\, Memphis\, TN\, 38111\, United States
CATEGORIES:Address & Signing,Lectures & Discussions,Signing
ATTACH;FMTTYPE=image/jpeg:https://www.endofhealing.com/wp-content/uploads/2016/08/348s.jpg
END:VEVENT
BEGIN:VEVENT
DTSTART;TZID=UTC:20160816T101500
DTEND;TZID=UTC:20160816T120000
DTSTAMP:20260423T232347
CREATED:20160330T024748Z
LAST-MODIFIED:20160330T024748Z
UID:4487-1471342500-1471348800@www.endofhealing.com
SUMMARY:Memphis—Central Library Daytime Books & Beyond Book Club
DESCRIPTION:Join author Jim Bailey for a reading and discussion of The End of Healing.  Jim will be available to sign books after the discussion.
URL:https://www.endofhealing.com/calendar/memphis-central-library-daytime-books-beyond-book-club/
LOCATION:Benjamin L. Hooks Central Library\, 3030 Poplar Avenue\, Memphis\, TN\, 38111\, United States
CATEGORIES:Address & Signing,Lectures & Discussions,Signing
ATTACH;FMTTYPE=image/jpeg:https://www.endofhealing.com/wp-content/uploads/2016/03/Memphis-SC-Library-3_625px1.jpg
ORGANIZER;CN="Wang-Ying Glasgow":MAILTO:wang-ying.glasgow@memphistn.gov
END:VEVENT
BEGIN:VEVENT
DTSTART;TZID=UTC:20160813T090000
DTEND;TZID=UTC:20160813T103000
DTSTAMP:20260423T232347
CREATED:20160726T023134Z
LAST-MODIFIED:20160726T023854Z
UID:4582-1471078800-1471084200@www.endofhealing.com
SUMMARY:Memphis—Primary Care Issues in Women's Health
DESCRIPTION:Jim Bailey will speak about The End of Healing and the Path to High Value Health Care at this year’s Methodist Le Bonheur Healthcare\, Primary Care Issues in Women’s Health Conference. Jim will talk about how women can take the lead to speak up and take charge of their families’ health and healthcare resources and help their loved ones find true health care that heals. Jim will be available to sign books immediately after his talk.
URL:https://www.endofhealing.com/calendar/memphis-primary-care-issues-in-womens-health/
LOCATION:The Holiday Inn\, University of Memphis\, 3700 Central Ave\, Memphis\, TN\, 38111\, United States
CATEGORIES:Address & Signing
ATTACH;FMTTYPE=image/jpeg:https://www.endofhealing.com/wp-content/uploads/2016/07/memphis_skyline.jpg
END:VEVENT
BEGIN:VEVENT
DTSTART;TZID=UTC:20160731T133000
DTEND;TZID=UTC:20160731T143000
DTSTAMP:20260423T232347
CREATED:20160726T021236Z
LAST-MODIFIED:20160726T021335Z
UID:4580-1469971800-1469975400@www.endofhealing.com
SUMMARY:Memphis—Explore Memphis Finale
DESCRIPTION:Jim Bailey will share his thoughts on sports\, health\, and fitness and the path to wellness at the Explore Memphis Finale at the Benjamin L. Hooks Central Library. Explore Memphis offers fun programs for children\, cool classes for teens\, free books for families\, enrichment opportunities for adults\, and special benefits throughout the city for readers and library card holders. This summer Explore Memphis is celebrating sports\, health\, and fitness.  Get in the game and exercise your mind by reading The End of Healing. On your mark\, get set….and READ your way to better health!
URL:https://www.endofhealing.com/calendar/memphis-explore-memphis-finale/
LOCATION:Benjamin L. Hooks Central Library\, 3030 Poplar Avenue\, Memphis\, TN\, 38111\, United States
CATEGORIES:Lectures & Discussions
ATTACH;FMTTYPE=image/png:https://www.endofhealing.com/wp-content/uploads/2016/07/explorememphis-240x240.png
END:VEVENT
BEGIN:VEVENT
DTSTART;TZID=UTC:20160624T170000
DTEND;TZID=UTC:20160624T180000
DTSTAMP:20260423T232347
CREATED:20160624T163117Z
LAST-MODIFIED:20160624T163327Z
UID:4558-1466787600-1466791200@www.endofhealing.com
SUMMARY:Cambridge—Harvard Book Store
DESCRIPTION:Jim Bailey will be available for an informal meet and greet and to sign copies of his book at Harvard Book Store in Harvard Square\, Cambridge following his talk today at the Stoeckle Center of Massachusetts General Hospital in Boston. Come meet Jim and get your signed copy of The End of Healing in one of the great book stores of the western world.
URL:https://www.endofhealing.com/calendar/cambridge-harvard-book-store/
LOCATION:Harvard Book Store\, 1256 Massachusetts Avenue\, Cambridge\, MA\, 02138\, United States
CATEGORIES:Signing
ATTACH;FMTTYPE=image/jpeg:https://www.endofhealing.com/wp-content/uploads/2016/06/540HarvardBookStore.jpg
END:VEVENT
BEGIN:VEVENT
DTSTART;TZID=UTC:20160624T074500
DTEND;TZID=UTC:20160624T090000
DTSTAMP:20260423T232347
CREATED:20160502T000423Z
LAST-MODIFIED:20160502T001006Z
UID:4527-1466754300-1466758800@www.endofhealing.com
SUMMARY:Boston—Massachusetts General Hospital\, Stoeckle Center Seminar Presentation
DESCRIPTION:Jim Bailey will speak at the John D. Stoeckle Center for Primary Care Innovation at Massachusetts General Hospital on “The End of Healing and the Path to High Value Health Care”. The morning Stoeckle Center seminars are offered monthly and are open to physicians\, nurses\, nurse practitioners\, administrators\, and medicine/pediatric residents. Invited speakers are frequently experts with national reputations\, and the conference has allowed recognition of MGH “best practices” within our primary care community.
URL:https://www.endofhealing.com/calendar/boston-massachusetts-general-hospital-stoeckle-center-seminar-presentation/
LOCATION:John D. Stoeckle Center for Primary Care Innovation\, Stoeckle Center\, 50 Staniford St.\, Eighth Floor\, Suite 802\, Boston\, MA\, 02114\, United States
CATEGORIES:Lectures & Discussions
ATTACH;FMTTYPE=image/jpeg:https://www.endofhealing.com/wp-content/uploads/2016/05/logoStoeckle.jpg
END:VEVENT
BEGIN:VEVENT
DTSTART;TZID=UTC:20160615T180000
DTEND;TZID=UTC:20160615T190000
DTSTAMP:20260423T232347
CREATED:20160531T134834Z
LAST-MODIFIED:20160531T134834Z
UID:4549-1466013600-1466017200@www.endofhealing.com
SUMMARY:Health Watch USA Webinar
DESCRIPTION:Jim Bailey will discuss his novel\, The End of Healing\, and talk about “Why healthcare may be hazardous for your health” for the monthly Health Watch USA Webinar.
URL:https://www.endofhealing.com/calendar/health-watch-usa-webinar/
LOCATION:SC
CATEGORIES:Lectures & Discussions
ATTACH;FMTTYPE=image/png:https://www.endofhealing.com/wp-content/uploads/2016/05/lGQV9aMW.png
END:VEVENT
BEGIN:VEVENT
DTSTART;TZID=UTC:20160513T161500
DTEND;TZID=UTC:20160513T174500
DTSTAMP:20260423T232347
CREATED:20160225T034009Z
LAST-MODIFIED:20160225T034238Z
UID:4477-1463156100-1463161500@www.endofhealing.com
SUMMARY:Hollywood\, FL—Society of General Internal Medicine
DESCRIPTION:Dr. Jim Bailey will speak about “The Path to High Value Health Care” as part of a symposium entitled Primary Care Practice Transformation: The Path to High Value Health Care and Satisfying\, Sustainable Careers for Physicians at the 2016 Annual Meeting of the Society of General Internal Medicine.
URL:https://www.endofhealing.com/calendar/hollywood-fl-society-of-general-internal-medicine/
LOCATION:Diplomat Resort and Spa\, 3555 S Ocean Dr\, Hollywood\, FL\, 33019\, United States
CATEGORIES:Lectures & Discussions
ATTACH;FMTTYPE=image/png:https://www.endofhealing.com/wp-content/uploads/2016/02/2016AM_175x175no-url.png
END:VEVENT
BEGIN:VEVENT
DTSTART;TZID=UTC:20160510T080000
DTEND;TZID=UTC:20160510T090000
DTSTAMP:20260423T232347
CREATED:20160225T001933Z
LAST-MODIFIED:20160225T001933Z
UID:4474-1462867200-1462870800@www.endofhealing.com
SUMMARY:Charleston—Medical University of South Carolina
DESCRIPTION:Dr. Jim Bailey will speak to medical students and faculty on The Path to High-Value Health Care for Department of Medicine Grand Rounds at the Medical University of South Carolina in Charleston. Using the story of his young physician hero\, Dr. Don Newman\, he will show the kind of courage the path to best evidence-based practice and true health system transformation demands. In light of these stories\, his talk will examine why the world of modern healthcare—more than any other social sector in the United States today—needs heroes. Dr. Bailey will discuss what it takes to stand up to the forces in American medicine that routinely trade patient health for profit. Dr. Bailey will be available after the lecture to sign books. The event is open to the public.
URL:https://www.endofhealing.com/calendar/charleston-medical-university-of-south-carolina/
LOCATION:Medical University of South Carolina\, Institute of Psychiatry Auditorium\, 67 President Street\, Charleston\, SC\, 29425\, United States
CATEGORIES:Address & Signing,Lectures & Discussions,Signing
ATTACH;FMTTYPE=image/jpeg:https://www.endofhealing.com/wp-content/uploads/2016/02/MUSC-029_966x668.jpg
END:VEVENT
BEGIN:VEVENT
DTSTART;TZID=UTC:20160506T170000
DTEND;TZID=UTC:20160506T183000
DTSTAMP:20260423T232347
CREATED:20160413T025226Z
LAST-MODIFIED:20160413T025750Z
UID:4491-1462554000-1462559400@www.endofhealing.com
SUMMARY:Charleston—Blue Bicycle Books Address & Signing
DESCRIPTION:Jim Bailey will talk about his novel\, The End of Healing\, and how Americans can reclaim their health and healthcare resources and find true healing in today’s world.
URL:https://www.endofhealing.com/calendar/charleston-blue-bicycle-books-address-signing/
LOCATION:blue bicycle Books\, 420 King St.\, Charleston\, SC\, 29403\, United States
CATEGORIES:Address & Signing,Signing
ATTACH;FMTTYPE=image/jpeg:https://www.endofhealing.com/wp-content/uploads/2016/04/Blue-Bicycle-Books.jpg
END:VEVENT
BEGIN:VEVENT
DTSTART;TZID=UTC:20160428T120000
DTEND;TZID=UTC:20160428T130000
DTSTAMP:20260423T232347
CREATED:20160501T162458Z
LAST-MODIFIED:20160501T162819Z
UID:4523-1461844800-1461848400@www.endofhealing.com
SUMMARY:Philadephia—University of Pennsylvania General Internal Medicine Grand Rounds
DESCRIPTION:Jim is speaking at Penn’s Division of General Internal Medicine Grand Rounds about “The End of Healing and the Path to High Value Health Care”.  How can we move from the current dangerous and expensive hospital-based rescue care system to find and support true healing? \n \nWe need to start by remembering what Ben Franklin told us: “An ounce of prevention is worth a pound of cure.”
URL:https://www.endofhealing.com/calendar/philadephia-university-of-pennsylvania-general-internal-medicine-grand-rounds/
LOCATION:The Wharton School\, University of Pennsylvania\, Steinberg-Dietrich Hall\, Rm 213\, 3620 Locust Walk\, Philadelphia\, PA\, 19104\, United States
CATEGORIES:Lectures & Discussions
ATTACH;FMTTYPE=image/jpeg:https://www.endofhealing.com/wp-content/uploads/2016/05/UPenn.jpg
END:VEVENT
BEGIN:VEVENT
DTSTART;TZID=UTC:20160427T120000
DTEND;TZID=UTC:20160427T130000
DTSTAMP:20260423T232347
CREATED:20160224T230359Z
LAST-MODIFIED:20160225T000207Z
UID:4471-1461758400-1461762000@www.endofhealing.com
SUMMARY:Stratford\, NJ—Rowan University
DESCRIPTION:Dr. Jim Bailey will speak to medical students and faculty on The Path to High-Value Health Care for Community Grand Rounds at Rowan University School of Osteopathic Medicine. Using the story of his young physician hero\, Dr. Don Newman\, he will show the kind of courage the path to best evidence-based practice and true health system transformation demands. In light of these stories\, his talk will examine why the world of modern healthcare—more than any other social sector in the United States today—needs heroes. Dr. Bailey will discuss what it takes to stand up to the forces in American medicine that routinely trade patient health for profit. Dr. Bailey will be available after the lecture to sign books. The event is open to the public.
URL:https://www.endofhealing.com/calendar/stratford-nj-rowan-university-school-of-osteopathic-medicine/
LOCATION:Rowan University School of Osteopathic Medicine\, Academic Center\, One Medical Center Drive\, Stratford\, NJ\, 08084-1501\, United States
ATTACH;FMTTYPE=image/jpeg:https://www.endofhealing.com/wp-content/uploads/2016/02/rowan.jpg
END:VEVENT
BEGIN:VEVENT
DTSTART;TZID=UTC:20160423T110000
DTEND;TZID=UTC:20160423T150000
DTSTAMP:20260423T232347
CREATED:20160330T020742Z
LAST-MODIFIED:20160330T020742Z
UID:4484-1461409200-1461423600@www.endofhealing.com
SUMMARY:Memphis Area Authors' Festival —Bookstock 2016
DESCRIPTION:Jim Bailey will be signing copies of his book at the Memphis Area Author’s Festival. Come say hello and help celebrate books and authors from “Shakespeare\, Dr. Seuss\, and Everything in Between.”
URL:https://www.endofhealing.com/calendar/memphis-area-authors-festival-bookstock-2016/
LOCATION:Benjamin L. Hooks Central Library\, 3030 Poplar Avenue\, Memphis\, TN\, 38111\, United States
CATEGORIES:Signing
ATTACH;FMTTYPE=image/png:https://www.endofhealing.com/wp-content/uploads/2016/03/bookstock-noborder-1024x565.png
END:VEVENT
BEGIN:VEVENT
DTSTART;TZID=UTC:20160322T150000
DTEND;TZID=UTC:20160322T160000
DTSTAMP:20260423T232347
CREATED:20160128T055828Z
LAST-MODIFIED:20240619T210211Z
UID:4433-1458658800-1458662400@www.endofhealing.com
SUMMARY:Seattle—UW Medicine Center for Scholarship in Patient Care Quality and Safety Address
DESCRIPTION:Jim Bailey will use real-life stories drawn from his novel\, The End of Healing\, to reveal how the diagnostic\, therapeutic\, and systems errors that patients and their healers experience each day have powerful ethical dimensions. Using the story of his young physician hero\, Dr. Don Newman\, he will show the kind of courage the path to best evidence-based practice and true health system transformation demands. In light of these stories\, his talk will examine why the world of modern healthcare—more than any other social sector in the United States today—needs heroes. Dr. Bailey will discuss what it takes to stand up to the forces in American medicine that routinely trade patient health for profit. \nResource: https://practicepath.com/why-practicepath/
URL:https://www.endofhealing.com/calendar/seattle-uw-medicine-center-for-scholarship-in-patient-care-quality-and-safety-address/
LOCATION:UW Medicine Center for Scholarship in Patient Care Quality and Safety\, 1959 NE Pacific St. \, Seattle\, WA\, 98195\, United States
CATEGORIES:Lectures & Discussions
ATTACH;FMTTYPE=image/jpeg:https://www.endofhealing.com/wp-content/uploads/2016/01/md-program-UWMC.jpg
END:VEVENT
BEGIN:VEVENT
DTSTART;TZID=UTC:20160218T170000
DTEND;TZID=UTC:20160218T190000
DTSTAMP:20260423T232347
CREATED:20160212T135415Z
LAST-MODIFIED:20160224T224152Z
UID:4440-1455814800-1455822000@www.endofhealing.com
SUMMARY:Atlanta—B&N at Emory Bookstore Signing
DESCRIPTION:After his talk at the Emory University School of Public Health earlier in the day\, Dr. Jim Bailey will be speaking about The End of Healing and signing copies at B&N at Emory Bookstore.  Jim will be available to sign books from 5 – 7 pm and will discuss and answer questions at 6 pm. \n 
URL:https://www.endofhealing.com/calendar/atlanta-bn-at-emory-bookstore-signing/
LOCATION:B&N at Emory Bookstore\, 1390 Oxford Road\, Atlanta\, GA\, 30322\, United States
CATEGORIES:Address & Signing,Signing
ATTACH;FMTTYPE=image/jpeg:https://www.endofhealing.com/wp-content/uploads/2016/02/barnes-and-noble-emory-university.jpg
END:VEVENT
BEGIN:VEVENT
DTSTART;TZID=UTC:20160218T120000
DTEND;TZID=UTC:20160218T130000
DTSTAMP:20260423T232347
CREATED:20160128T054043Z
LAST-MODIFIED:20160224T223643Z
UID:4428-1455796800-1455800400@www.endofhealing.com
SUMMARY:Atlanta—IHI Open School Emory Chapter Address and Signing
DESCRIPTION:Jim Bailey will speak to medical\, nursing\, and public health students in the Institute for Healthcare Improvement (IHI) Open School Chapter of Emory University.  Using real-life stories drawn from his novel\, The End of Healing\, Dr. Bailey will reveal how the diagnostic\, therapeutic\, and systems errors that patients and their healers experience each day have powerful ethical dimensions. Using the story of his young physician hero\, Dr. Don Newman\, he will show the kind of courage the path to best evidence-based practice and true health system transformation demands. In light of these stories\, his talk will examine why the world of modern healthcare—more than any other social sector in the United States today—needs heroes. Dr. Bailey will discuss what it takes to stand up to the forces in American medicine that routinely trade patient health for profit. Dr. Bailey will be available after the lecture to sign books. The event is open to the public. \n 
URL:https://www.endofhealing.com/calendar/atlanta-ihi-open-school-emory-chapter-address-and-signing/
LOCATION:Emory University\, Nell Hodgson Woodruff School of Nursing\, 1520 Clifton Road\, Room 112\, Atlanta\, GA\, 30322\, United States
CATEGORIES:Address & Signing,Lectures & Discussions,Signing
ATTACH;FMTTYPE=image/jpeg:https://www.endofhealing.com/wp-content/uploads/2016/01/son_exterior.jpg
END:VEVENT
BEGIN:VEVENT
DTSTART;TZID=UTC:20151014T190000
DTEND;TZID=UTC:20151014T210000
DTSTAMP:20260423T232347
CREATED:20150920T231102Z
LAST-MODIFIED:20151014T204417Z
UID:2854-1444849200-1444856400@www.endofhealing.com
SUMMARY:Florence\, AL—Alabama Association of University Women Address & Signing
DESCRIPTION:Jim Bailey will discuss The End of Healing at the University of North Alabama\, Alabama Association of University Women monthly meeting.
URL:https://www.endofhealing.com/calendar/florence-al-alabama-association-of-university-women-address-signing/
LOCATION:Church of the Good Shepherd\, 2001 Cloyd Boulevard\, Florence\, AL\, United States
CATEGORIES:Address & Signing,Lectures & Discussions,Signing
ATTACH;FMTTYPE=image/jpeg:https://www.endofhealing.com/wp-content/uploads/2015/09/University-of-North-Alabama.jpg
END:VEVENT
END:VCALENDAR